BEGIN:VCALENDAR
VERSION:2.0
PRODID:-//The Orchid School - ECPv6.15.12.2//NONSGML v1.0//EN
CALSCALE:GREGORIAN
METHOD:PUBLISH
X-WR-CALNAME:The Orchid School
X-ORIGINAL-URL:https://theorchidschool.org
X-WR-CALDESC:Events for The Orchid School
REFRESH-INTERVAL;VALUE=DURATION:PT1H
X-Robots-Tag:noindex
X-PUBLISHED-TTL:PT1H
BEGIN:VTIMEZONE
TZID:Asia/Kolkata
BEGIN:STANDARD
TZOFFSETFROM:+0530
TZOFFSETTO:+0530
TZNAME:IST
DTSTART:20250101T000000
END:STANDARD
END:VTIMEZONE
BEGIN:VEVENT
DTSTART;TZID=Asia/Kolkata:20260422T090000
DTEND;TZID=Asia/Kolkata:20260422T092000
DTSTAMP:20260422T055040
CREATED:20260331T100410Z
LAST-MODIFIED:20260331T100410Z
UID:29066-1776848400-1776849600@theorchidschool.org
SUMMARY:Breakfast PP
DESCRIPTION:VEGETABLE IDLI SAMBAR CHUTNEY
URL:https://theorchidschool.org/calendar/breakfast-pp-15/
CATEGORIES:Lunch Menu
END:VEVENT
BEGIN:VEVENT
DTSTART;TZID=Asia/Kolkata:20260422T094000
DTEND;TZID=Asia/Kolkata:20260422T095500
DTSTAMP:20260422T055040
CREATED:20260331T100407Z
LAST-MODIFIED:20260331T100407Z
UID:29063-1776850800-1776851700@theorchidschool.org
SUMMARY:Breakfast
DESCRIPTION:VEGETABLE IDLI SAMBAR CHUTNEY
URL:https://theorchidschool.org/calendar/breakfast-15/
CATEGORIES:Lunch Menu
END:VEVENT
BEGIN:VEVENT
DTSTART;TZID=Asia/Kolkata:20260422T120000
DTEND;TZID=Asia/Kolkata:20260422T122000
DTSTAMP:20260422T055040
CREATED:20260331T100411Z
LAST-MODIFIED:20260331T100411Z
UID:29067-1776859200-1776860400@theorchidschool.org
SUMMARY:Lunch PP
DESCRIPTION:CHOLE\, PURI\, SALAD
URL:https://theorchidschool.org/calendar/lunch-pp-15/
CATEGORIES:Lunch Menu
END:VEVENT
BEGIN:VEVENT
DTSTART;TZID=Asia/Kolkata:20260422T120000
DTEND;TZID=Asia/Kolkata:20260422T130500
DTSTAMP:20260422T055041
CREATED:20260331T100408Z
LAST-MODIFIED:20260331T100408Z
UID:29064-1776859200-1776863100@theorchidschool.org
SUMMARY:Lunch
DESCRIPTION:CHOLE\, DAL\, STEAM RICE\, PURI\, SALAD\, DAHI WADA
URL:https://theorchidschool.org/calendar/lunch-15/
CATEGORIES:Lunch Menu
END:VEVENT
BEGIN:VEVENT
DTSTART;TZID=Asia/Kolkata:20260422T120000
DTEND;TZID=Asia/Kolkata:20260422T130500
DTSTAMP:20260422T055041
CREATED:20260331T100409Z
LAST-MODIFIED:20260331T100409Z
UID:29065-1776859200-1776863100@theorchidschool.org
SUMMARY:Mini Lunch
DESCRIPTION:CHOLE\, PURI\, DAHI WADA
URL:https://theorchidschool.org/calendar/mini-lunch-15/
CATEGORIES:Lunch Menu
END:VEVENT
END:VCALENDAR